BEGIN:VCALENDAR
VERSION:2.0
PRODID:-//Tukios.com/
BEGIN:VEVENT
UID:38a093ab-d966-416b-b620-08509287b75a@www.bunkerslv.com
DTSTAMP:20260424T184642Z
DTSTART:20260501T190000Z
DTEND:20260501T200000Z
SUMMARY:Graveside Service
DESCRIPTION:
URL:https://www.bunkerslv.com/obituaries/daji-choi
LOCATION: 1500 Las Vegas Blvd N  Las Vegas NV 89101
GEO:36.1866272;-115.1291262
END:VEVENT
END:VCALENDAR