BEGIN:VCALENDAR
VERSION:2.0
PRODID:-//Tukios.com/
BEGIN:VEVENT
UID:3c22a45a-e780-4b15-827a-73c85bef0053@www.bunkerslv.com
DTSTAMP:20260424T005752Z
DTSTART:20260430T000000Z
DTEND:20260430T030000Z
SUMMARY:Visitation
DESCRIPTION:
URL:https://www.bunkerslv.com/obituaries/ines-ortiz-soriano
LOCATION: 925 Las Vegas Blvd N  Las Vegas NV 89101
GEO:36.1806249;-115.1350534
END:VEVENT
END:VCALENDAR