BEGIN:VCALENDAR
VERSION:2.0
PRODID:-//Tukios.com/
BEGIN:VEVENT
UID:95e6ae88-bde9-4bc9-bdc0-f09a8256b7c1@www.bunkerslv.com
DTSTAMP:20260424T010030Z
DTSTART:20260430T170000Z
DTEND:20260430T181500Z
SUMMARY:Mass
DESCRIPTION:
URL:https://www.bunkerslv.com/obituaries/ines-ortiz-soriano
LOCATION: 5485 East Charleston Boulevard  Las Vegas NV 89142
GEO:36.1590338;-115.0547732
END:VEVENT
END:VCALENDAR