BEGIN:VCALENDAR
VERSION:2.0
PRODID:-//Tukios.com/
BEGIN:VEVENT
UID:80e7a4f2-c3e7-495a-948c-9c4e4ae48f3f@www.bunkerslv.com
DTSTAMP:20260424T010138Z
DTSTART:20260430T190000Z
DTEND:20260430T193000Z
SUMMARY:Graveside Service
DESCRIPTION:
URL:https://www.bunkerslv.com/obituaries/ines-ortiz-soriano
LOCATION: 7251 W Lone Mountain Rd  Las Vegas NV 89129
GEO:36.245437;-115.252051
END:VEVENT
END:VCALENDAR