BEGIN:VCALENDAR
VERSION:2.0
PRODID:-//Tukios.com/
BEGIN:VEVENT
UID:cb2fcce4-e353-4b0e-9494-9d7bf36481f7@www.bunkerslv.com
DTSTAMP:20260421T224510Z
DTSTART:20260508T010000Z
DTEND:20260508T030000Z
SUMMARY:Visitation
DESCRIPTION:
URL:https://www.bunkerslv.com/obituaries/jeffery-marshall
LOCATION: 925 Las Vegas Blvd N  Las Vegas NV 89101
GEO:36.1806249;-115.1350534
END:VEVENT
END:VCALENDAR