BEGIN:VCALENDAR
VERSION:2.0
PRODID:-//Tukios.com/
BEGIN:VEVENT
UID:8c555790-0be0-4851-a4e0-7d5a58b4cd90@www.bunkerslv.com
DTSTAMP:20260420T212132Z
DTSTART:20260510T210000Z
DTEND:20260510T230000Z
SUMMARY:Visitation
DESCRIPTION:
URL:https://www.bunkerslv.com/obituaries/mei-lung-sass
LOCATION: 925 Las Vegas Blvd N  Las Vegas NV 89101
GEO:36.1806249;-115.1350534
END:VEVENT
END:VCALENDAR