BEGIN:VCALENDAR
VERSION:2.0
PRODID:-//Tukios.com/
BEGIN:VEVENT
UID:c50f9dc8-aeca-46e8-9dbc-8f8b2b3316c3@www.bunkerslv.com
DTSTAMP:20260420T212729Z
DTSTART:20260511T180000Z
DTEND:20260511T190000Z
SUMMARY:Funeral Service
DESCRIPTION:
URL:https://www.bunkerslv.com/obituaries/mei-lung-sass
LOCATION: 1111 Michael Way  Las Vegas NV 89108
GEO:36.1832226;-115.2161954
END:VEVENT
END:VCALENDAR