BEGIN:VCALENDAR
VERSION:2.0
PRODID:-//Tukios.com/
BEGIN:VEVENT
UID:aa8e4d2d-9efc-483f-8e69-f19b13c1318e@www.bunkerslv.com
DTSTAMP:20260420T211942Z
DTSTART:20260511T201500Z
DTEND:20260511T210000Z
SUMMARY:Interment
DESCRIPTION:
URL:https://www.bunkerslv.com/obituaries/mei-lung-sass
LOCATION: 1900 Veterans Memorial Drive  Boulder City NV 89005
GEO:35.9457364;-114.8470616
END:VEVENT
END:VCALENDAR