BEGIN:VCALENDAR
VERSION:2.0
PRODID:-//Tukios.com/
BEGIN:VEVENT
UID:5af40c19-5959-4401-afda-6982edbea713@www.bunkerslv.com
DTSTAMP:20260421T033829Z
DTSTART:20260507T210000Z
DTEND:20260507T230000Z
SUMMARY:Memorial Service
DESCRIPTION:
URL:https://www.bunkerslv.com/obituaries/michele-dohme
LOCATION: 925 Las Vegas Blvd N  Las Vegas NV 89101
GEO:36.1806249;-115.1350534
END:VEVENT
END:VCALENDAR