BEGIN:VCALENDAR
VERSION:2.0
PRODID:-//Tukios.com/
BEGIN:VEVENT
UID:eaee3f79-30e2-4d00-8a16-5d0383e907b7@www.bunkerslv.com
DTSTAMP:20260423T231316Z
DTSTART:20260429T010000Z
DTEND:20260429T023000Z
SUMMARY:Memorial Gathering
DESCRIPTION:
URL:https://www.bunkerslv.com/obituaries/stanley-szwankowski-jr
LOCATION: 925 Las Vegas Blvd N  Las Vegas NV 89101
GEO:36.1806249;-115.1350534
END:VEVENT
END:VCALENDAR