BEGIN:VCALENDAR
VERSION:2.0
PRODID:-//Tukios.com/
BEGIN:VEVENT
UID:d562113a-9b14-44b2-bfbf-5b4bd41a6240@www.bunkerslv.com
DTSTAMP:20260423T231041Z
DTSTART:20260429T170000Z
DTEND:20260429T173000Z
SUMMARY:Graveside Service
DESCRIPTION:
URL:https://www.bunkerslv.com/obituaries/stanley-szwankowski-jr
LOCATION: 1500 Las Vegas Blvd N  Las Vegas NV 89101
GEO:36.1866272;-115.1291262
END:VEVENT
END:VCALENDAR